BEGIN:VCALENDAR
VERSION:2.0
PRODID:https://www.kufer.de/kuferweb / DE
METHOD:PUBLISH
CALSCALE:GREGORIAN
X-WR-TIMEZONE:Europe/Berlin
BEGIN:VTIMEZONE
TZID:Europe/Berlin
X-LIC-LOCATION:Europe/Berlin
BEGIN:DAYLIGHT
TZOFFSETFROM:+0100
TZOFFSETTO:+0200
TZNAME:CEST
DTSTART:19700329T020000
RRULE:FREQ=YEARLY;INTERVAL=1;BYDAY=-1SU;BYMONTH=3
END:DAYLIGHT
BEGIN:STANDARD
TZOFFSETFROM:+0200
TZOFFSETTO:+0100
TZNAME:CET
DTSTART:19701025T030000
RRULE:FREQ=YEARLY;INTERVAL=1;BYDAY=-1SU;BYMONTH=10
END:STANDARD
END:VTIMEZONE
BEGIN:VEVENT
DTSTAMP:20260422T160816
DTSTART;TZID=Europe/Berlin:20261019T073000
DTEND;TZID=Europe/Berlin:20261019T153000
UID:FEA6202-20261019T073000@KVHSAMMERLAND
SUMMARY:Grundschule Wiefelstede , 19.10.2026  - 23.10.2026 (FEA6202) 
LOCATION:Wiefelstede, Grundschule, Unterrichtsraum, Am Breeden 13, 26215 Wiefelstede
END:VEVENT
BEGIN:VEVENT
DTSTAMP:20260422T160816
DTSTART;TZID=Europe/Berlin:20261020T073000
DTEND;TZID=Europe/Berlin:20261020T153000
UID:FEA6202-20261020T073000@KVHSAMMERLAND
SUMMARY:Grundschule Wiefelstede , 19.10.2026  - 23.10.2026 (FEA6202) 
LOCATION:Wiefelstede, Grundschule, Unterrichtsraum, Am Breeden 13, 26215 Wiefelstede
END:VEVENT
BEGIN:VEVENT
DTSTAMP:20260422T160816
DTSTART;TZID=Europe/Berlin:20261021T073000
DTEND;TZID=Europe/Berlin:20261021T153000
UID:FEA6202-20261021T073000@KVHSAMMERLAND
SUMMARY:Grundschule Wiefelstede , 19.10.2026  - 23.10.2026 (FEA6202) 
LOCATION:Wiefelstede, Grundschule, Unterrichtsraum, Am Breeden 13, 26215 Wiefelstede
END:VEVENT
BEGIN:VEVENT
DTSTAMP:20260422T160816
DTSTART;TZID=Europe/Berlin:20261022T073000
DTEND;TZID=Europe/Berlin:20261022T153000
UID:FEA6202-20261022T073000@KVHSAMMERLAND
SUMMARY:Grundschule Wiefelstede , 19.10.2026  - 23.10.2026 (FEA6202) 
LOCATION:Wiefelstede, Grundschule, Unterrichtsraum, Am Breeden 13, 26215 Wiefelstede
END:VEVENT
BEGIN:VEVENT
DTSTAMP:20260422T160816
DTSTART;TZID=Europe/Berlin:20261023T073000
DTEND;TZID=Europe/Berlin:20261023T153000
UID:FEA6202-20261023T073000@KVHSAMMERLAND
SUMMARY:Grundschule Wiefelstede , 19.10.2026  - 23.10.2026 (FEA6202) 
LOCATION:Wiefelstede, Grundschule, Unterrichtsraum, Am Breeden 13, 26215 Wiefelstede
END:VEVENT
END:VCALENDAR